BEGIN:VCALENDAR
VERSION:2.0
PRODID:-//Le Lagon - ECPv6.3.4//NONSGML v1.0//EN
CALSCALE:GREGORIAN
METHOD:PUBLISH
X-ORIGINAL-URL:https://www.lelagondakar.com
X-WR-CALDESC:évènements pour Le Lagon
REFRESH-INTERVAL;VALUE=DURATION:PT1H
X-Robots-Tag:noindex
X-PUBLISHED-TTL:PT1H
BEGIN:VTIMEZONE
TZID:Europe/Paris
BEGIN:DAYLIGHT
TZOFFSETFROM:+0100
TZOFFSETTO:+0200
TZNAME:CEST
DTSTART:20240331T010000
END:DAYLIGHT
BEGIN:STANDARD
TZOFFSETFROM:+0200
TZOFFSETTO:+0100
TZNAME:CET
DTSTART:20241027T010000
END:STANDARD
END:VTIMEZONE
BEGIN:VEVENT
DTSTART;VALUE=DATE:20240413
DTEND;VALUE=DATE:20240417
DTSTAMP:20260422T195025
CREATED:20170825T205039Z
LAST-MODIFIED:20170825T205039Z
UID:14345-1712973600-1713232799@www.lelagondakar.com
SUMMARY:Natural environment conference 2018
DESCRIPTION:Description\n\n	\n	\n	\n\n\n\n			\n	\n	\n		\n	Enthralling local punk-cabaret chanteuse Shilpa Ray celebrates her recent album\, Door Girl\, inspired by her stint working the door at Manhattan venue Pianos. Dig into new tunes like "You're Fucking No One" and "Manhattanoid Creepazoids\," which hopefully don't hit too close to home. \n\n	\n\n\n\n			\n	\n	\n		\n	Enthralling local punk-cabaret chanteuse Shilpa Ray celebrates her recent album\, Door Girl\, inspired by her stint working the door at Manhattan venue Pianos. Dig into new tunes like "You're Fucking No One" and "Manhattanoid Creepazoids\," which hopefully don't hit too close to home.
URL:https://www.lelagondakar.com/classes/natural-environment-conference-2018/
LOCATION:New York Ardesia Bar\, Lexington Avenue\, New York\, NY\, 10022\, United States
CATEGORIES:Hotel,Unique
ATTACH;FMTTYPE=image/jpeg:https://www.lelagondakar.com/wp-content/uploads/2017/04/photo-18.jpg
END:VEVENT
END:VCALENDAR